BEGIN:VCALENDAR
VERSION:2.0
PRODID:-//Oswestry Show - ECPv6.15.10//NONSGML v1.0//EN
CALSCALE:GREGORIAN
METHOD:PUBLISH
X-WR-CALNAME:Oswestry Show
X-ORIGINAL-URL:https://oswestryshow.co.uk
X-WR-CALDESC:Events for Oswestry Show
REFRESH-INTERVAL;VALUE=DURATION:PT1H
X-Robots-Tag:noindex
X-PUBLISHED-TTL:PT1H
BEGIN:VTIMEZONE
TZID:UTC
BEGIN:STANDARD
TZOFFSETFROM:+0000
TZOFFSETTO:+0000
TZNAME:UTC
DTSTART:20240101T000000
END:STANDARD
END:VTIMEZONE
BEGIN:VEVENT
DTSTART;VALUE=DATE:20250921
DTEND;VALUE=DATE:20250922
DTSTAMP:20260419T161351
CREATED:20250908T113140Z
LAST-MODIFIED:20250908T113140Z
UID:57438-1758412800-1758499199@oswestryshow.co.uk
SUMMARY:Curly Coated Retriever Breed Show
DESCRIPTION:Come along to Oswestry Showground and join the Curly Coated’s 41st Champion Show. \nThey have all these things happening on one day\, so come and join in the fun: \n\n The Curly Coated Retriever Club shop will be there for all your needs and the lovely Heather will be able to help you out with any enquiries\n\n\n Raffle and Tombola going on\, there are always great prizes kindly donated by those who attend. So why not enter you may get something good! Donations for the Raffle and Tombola will be greatly received.\n\n\nCurly Coated Retriever Club Rescue stand\, where we will be raising money for our Club rescue\n\n\n Blind auction happening!! With fabulous prizes to win.\n\n\n There is camping available\, booking can be done via Fossedata\n\n\nWe also have the Neil Harris Crystal attending our show and he has some beautiful designs\nhttps://www.nharrisandson.com/\n\n\nOur Breed Appreciation Day and A3 assessment will also be taking place at the same time so this is a unique opportunity for our learning judges to see lots of Curlies in action and have a cheeky cuddle that you won’t get in the ring. Book via our BEC.
URL:https://oswestryshow.co.uk/event/curly-coated-retriever-breed-show/
LOCATION:Oswestry Showground\, Whittington\, Oswestry\, Shropshire\, SY11 4AB\, United Kingdom
END:VEVENT
BEGIN:VEVENT
DTSTART;TZID=UTC:20250802T090000
DTEND;TZID=UTC:20250802T170000
DTSTAMP:20260419T161351
CREATED:20250613T135208Z
LAST-MODIFIED:20250613T135208Z
UID:56877-1754125200-1754154000@oswestryshow.co.uk
SUMMARY:Oswestry Show 2025
DESCRIPTION:Now in its 138th year\, the Oswestry Show is one of the UK’s leading one-day agricultural shows\, welcoming over 15\,000 visitors annually to enjoy a vibrant showcase of farming\, rural traditions\, live entertainment\, and local talent – all set in the heart of Shropshire. Whether you’re passionate about agriculture or simply looking for a fun-filled family day out\, the 2025 Oswestry Show promises something for everyone. \nThe Oswestry Show is more than just a show – it’s a day where town meets country\, where generations gather and where agriculture is celebrated in all its diversity. Whether you’re a returning visitor or planning your first visit\, we look forward to welcoming you on Saturday 2nd August 2025.
URL:https://oswestryshow.co.uk/event/oswestry-show-2025/
LOCATION:Oswestry Showground\, Whittington\, Oswestry\, Shropshire\, SY11 4AB\, United Kingdom
END:VEVENT
END:VCALENDAR