BEGIN:VCALENDAR
VERSION:2.0
PRODID:-//Oswestry Show - ECPv6.15.10//NONSGML v1.0//EN
CALSCALE:GREGORIAN
METHOD:PUBLISH
X-WR-CALNAME:Oswestry Show
X-ORIGINAL-URL:https://oswestryshow.co.uk
X-WR-CALDESC:Events for Oswestry Show
REFRESH-INTERVAL;VALUE=DURATION:PT1H
X-Robots-Tag:noindex
X-PUBLISHED-TTL:PT1H
BEGIN:VTIMEZONE
TZID:UTC
BEGIN:STANDARD
TZOFFSETFROM:+0000
TZOFFSETTO:+0000
TZNAME:UTC
DTSTART:20240101T000000
END:STANDARD
END:VTIMEZONE
BEGIN:VEVENT
DTSTART;TZID=UTC:20260328T140000
DTEND;TZID=UTC:20260328T160000
DTSTAMP:20260419T164747
CREATED:20260304T123312Z
LAST-MODIFIED:20260304T123312Z
UID:57597-1774706400-1774713600@oswestryshow.co.uk
SUMMARY:SFYFC Joules Sale
DESCRIPTION:Who doesn’t love a Bargain \nShropshire Young Farmers are hosting a Joules Sale with discounted Joules items available to purchase!\n\nThis is a ticketed event that is open to everyone so make sure to spread the word!\nTickets available Here:https://www.ticketsource.co.uk/sfyfc
URL:https://oswestryshow.co.uk/event/sfyfc-joules-sale/
LOCATION:Oswestry Showground\, Whittington\, Oswestry\, Shropshire\, SY11 4AB\, United Kingdom
END:VEVENT
BEGIN:VEVENT
DTSTART;VALUE=DATE:20260319
DTEND;VALUE=DATE:20260330
DTSTAMP:20260419T164747
CREATED:20260119T105146Z
LAST-MODIFIED:20260119T105223Z
UID:57521-1773878400-1774828799@oswestryshow.co.uk
SUMMARY:Circus Funtasia
DESCRIPTION:Circus Funtasia is back at Osdwestry Showground for another immersive theatre experience\, a vivid spectacle of courage\, artistry\, and joy under the classic canopy of the big top. Get ready for a night of wonder you’ll talk about long after the final applause. 🎪✨ \nPrepare to be transported into a world where wonder knows no bounds. Feel the pulse of excitement as motorbike daredevils roar through the fearsome Globe of Death\, defying gravity and danger with breathtaking precision. \nThis is more than a circus—it’s a theatrical celebration of human skill. Mesmerising aerialists dance on ribbons of light\, twisting and soaring in mid-air\, while jugglers weave a hypnotic tapestry of movement and rhythm with an effortless flair. Hand balancers showcase astonishing poise and strength in moments of sublime stillness\, and gymnasts take flight across dynamic trampoline sequences that defy expectation. \n  \nCheck out their website or socials for more information!
URL:https://oswestryshow.co.uk/event/circus-funtasia/
LOCATION:Oswestry Showground\, Whittington\, Oswestry\, Shropshire\, SY11 4AB\, United Kingdom
END:VEVENT
BEGIN:VEVENT
DTSTART;VALUE=DATE:20260315
DTEND;VALUE=DATE:20260316
DTSTAMP:20260419T164747
CREATED:20260211T134030Z
LAST-MODIFIED:20260211T134030Z
UID:57591-1773532800-1773619199@oswestryshow.co.uk
SUMMARY:OSWESTRY & DISTRICT KENNEL ASSOCIATION OPEN SHOW
DESCRIPTION:Oswestry & District Kennel Association Open Dog Show\, held Sunday 15th March 2026 at Oswestry Showground. \nYou can enter online at; \n https://www.fossedata.co.uk/shows/Oswestry-District-Kennel-Association-March-2026.aspx?fbclid=IwY2xjawP5ZYdleHRuA2FlbQIxMQBzcnRjBmFwcF9pZBAyMjIwMzkxNzg4MjAwODkyAAEewVAKLurPfUKEmKR1LnpzD3yecfTbUPZLIxIe0JQ_bfZDjKWsY69gU_kQMMo_aem_jQb4D_-Zrn2eNOTcJlpeqw \nThe link below will also take you directly to the schedule; \nhttps://www.fossedata.co.uk/shows/Oswestry-District-Kennel-Association-March-2026.aspx?fbclid=IwY2xjawP5ZOtleHRuA2FlbQIxMABicmlkETFSaUdQS2lXbEw5MWJJY2R5c3J0YwZhcHBfaWQQMjIyMDM5MTc4ODIwMDg5MgABHmmYhoxld5PvbKioIpCoX70u9t6jqICpEvx-RnMnXKrGlaVhgzfgbR6POsSr_aem_XEXHG2fU5Egg_3Lsf0blig
URL:https://oswestryshow.co.uk/event/oswestry-district-kennel-association-open-show/
LOCATION:Oswestry Showground\, Whittington\, Oswestry\, Shropshire\, SY11 4AB\, United Kingdom
END:VEVENT
BEGIN:VEVENT
DTSTART;VALUE=DATE:20260314
DTEND;VALUE=DATE:20260315
DTSTAMP:20260419T164747
CREATED:20260119T104430Z
LAST-MODIFIED:20260119T104430Z
UID:57519-1773446400-1773532799@oswestryshow.co.uk
SUMMARY:PRIVATE EVENT
DESCRIPTION:
URL:https://oswestryshow.co.uk/event/private-event-4/
LOCATION:Shropshire
END:VEVENT
BEGIN:VEVENT
DTSTART;TZID=UTC:20260307T103000
DTEND;TZID=UTC:20260307T143000
DTSTAMP:20260419T164747
CREATED:20260119T104349Z
LAST-MODIFIED:20260119T104349Z
UID:57514-1772879400-1772893800@oswestryshow.co.uk
SUMMARY:Oswestry Toy & Train Fair
DESCRIPTION:Oswestry Toy & Train Collectors Fair. \n10.30am-2.30pm \nFree Parking \nRefreshments Available \nPlease contact: \nJackson & Jackson Events\n07967681080
URL:https://oswestryshow.co.uk/event/oswestry-toy-train-fair/
LOCATION:Oswestry Showground\, Whittington\, Oswestry\, Shropshire\, SY11 4AB\, United Kingdom
END:VEVENT
BEGIN:VEVENT
DTSTART;VALUE=DATE:20260228
DTEND;VALUE=DATE:20260301
DTSTAMP:20260419T164747
CREATED:20260119T103347Z
LAST-MODIFIED:20260119T103347Z
UID:57512-1772236800-1772323199@oswestryshow.co.uk
SUMMARY:PRIVATE EVENT
DESCRIPTION:
URL:https://oswestryshow.co.uk/event/private-event-3/
LOCATION:Shropshire
END:VEVENT
BEGIN:VEVENT
DTSTART;TZID=UTC:20260221T080000
DTEND;TZID=UTC:20260222T160000
DTSTAMP:20260419T164747
CREATED:20251203T105333Z
LAST-MODIFIED:20251203T105333Z
UID:57480-1771660800-1771776000@oswestryshow.co.uk
SUMMARY:Oswestry Antique & Collectors Fair
DESCRIPTION:Join us at Oswestry Showground for our Autumn fair! All info is as follows: \n\nOswestry Showground\, SY11 4AB\n£4.00 per person\, cash on arrival – Please note that due to signal issues we are unable to take card payment on the gate at Oswestry Showground.\nBook online for swift entry & to get entry on both days for the price of one.\nFree parking\, dogs are welcome.\nSaturday: TRADE ONLY – 7:00 – All buyers from 8:00\nSunday: From 8:00\n\nPlease note: We always recommend buyers arrive by 14:00 Saturday & 13:30 Sunday to make the most of the fair. Admissions after this time is fine but this is our recommendation. \nCatering on site and dogs are welcome. \nOswestry Antique and Collector Fair is situated in the heart of Shropshire at Oswestry Showground which is a 36 acres site with TWO LARGE exhibition halls in a prime position on the A495. You can except to find an array of outdoor and indoor stalls selling an eclectic mix of antiques\, vintage\, collectables\, architectural salvage\, mid century or simply that decorative item. \nOswestry Antique & Collectors Fair regularly hosts experienced dealers from all over the country and has been a regular on BBC’s bargain hunt in the past.\nThe fair is affordable\, dog friendly with free parking and free entry for children. This is a great day out for all the family to be enjoyed whatever the weather! Refreshments available.
URL:https://oswestryshow.co.uk/event/oswestry-antique-collectors-fair/
LOCATION:Oswestry Showground\, Whittington\, Oswestry\, Shropshire\, SY11 4AB\, United Kingdom
END:VEVENT
BEGIN:VEVENT
DTSTART;TZID=UTC:20260213T170000
DTEND;TZID=UTC:20260215T180000
DTSTAMP:20260419T164747
CREATED:20251203T104624Z
LAST-MODIFIED:20251203T104722Z
UID:57478-1771002000-1771178400@oswestryshow.co.uk
SUMMARY:Private Event
DESCRIPTION:
URL:https://oswestryshow.co.uk/event/private-event-2/
LOCATION:Shropshire
END:VEVENT
BEGIN:VEVENT
DTSTART;VALUE=DATE:20260201
DTEND;VALUE=DATE:20260202
DTSTAMP:20260419T164747
CREATED:20251203T104450Z
LAST-MODIFIED:20251203T104450Z
UID:57475-1769904000-1769990399@oswestryshow.co.uk
SUMMARY:Oswestry Show Annual Awards Luncheon
DESCRIPTION:Oswestry Show annual awards luncheon. \nMore details and ticket info to be confirmed.
URL:https://oswestryshow.co.uk/event/oswestry-show-annual-awards-luncheon/
LOCATION:Oswestry Showground\, Whittington\, Oswestry\, Shropshire\, SY11 4AB\, United Kingdom
END:VEVENT
BEGIN:VEVENT
DTSTART;VALUE=DATE:20260123
DTEND;VALUE=DATE:20260124
DTSTAMP:20260419T164747
CREATED:20251203T104256Z
LAST-MODIFIED:20251203T104256Z
UID:57473-1769126400-1769212799@oswestryshow.co.uk
SUMMARY:Whittington & Oswestry YFC Dinner Dance
DESCRIPTION:Whittington & Oswestry Young Farmers Annual Dinner Dance. \n Friday\, 23rd January 2026 Arrival from 7:00pm | Carriages at 1:00am Oswestry Showground\, SY11 4AB\n Live music by Monstaball A welcome drink to begin your evening A two-course meal by Oak Apple Catering\n Dress Code: Enchanted Forest/ Black Tie\n The bar will accept both cash and card; kindly bring some cash should you wish to take part in our charity draws.\n Tickets: £45.00 per guest | Tables of 10 Reservations may be made through Libby Morris: liberty.morris05@outlook.com 07596537115\n Once a table has been reserved\, full payment will be required to the club account by Friday\, 5th December 2025.Please note: payment will not be taken on the evening of the event.
URL:https://oswestryshow.co.uk/event/whittington-oswestry-yfc-dinner-dance/
LOCATION:Oswestry Showground\, Whittington\, Oswestry\, Shropshire\, SY11 4AB\, United Kingdom
END:VEVENT
BEGIN:VEVENT
DTSTART;TZID=UTC:20251231T080000
DTEND;TZID=UTC:20260103T170000
DTSTAMP:20260419T164747
CREATED:20251203T103449Z
LAST-MODIFIED:20251203T103449Z
UID:57471-1767168000-1767459600@oswestryshow.co.uk
SUMMARY:Private Event
DESCRIPTION:
URL:https://oswestryshow.co.uk/event/private-event/
LOCATION:Oswestry Showground\, Whittington\, Oswestry\, Shropshire\, SY11 4AB\, United Kingdom
END:VEVENT
BEGIN:VEVENT
DTSTART;VALUE=DATE:20250921
DTEND;VALUE=DATE:20250922
DTSTAMP:20260419T164747
CREATED:20250908T113140Z
LAST-MODIFIED:20250908T113140Z
UID:57438-1758412800-1758499199@oswestryshow.co.uk
SUMMARY:Curly Coated Retriever Breed Show
DESCRIPTION:Come along to Oswestry Showground and join the Curly Coated’s 41st Champion Show. \nThey have all these things happening on one day\, so come and join in the fun: \n\n The Curly Coated Retriever Club shop will be there for all your needs and the lovely Heather will be able to help you out with any enquiries\n\n\n Raffle and Tombola going on\, there are always great prizes kindly donated by those who attend. So why not enter you may get something good! Donations for the Raffle and Tombola will be greatly received.\n\n\nCurly Coated Retriever Club Rescue stand\, where we will be raising money for our Club rescue\n\n\n Blind auction happening!! With fabulous prizes to win.\n\n\n There is camping available\, booking can be done via Fossedata\n\n\nWe also have the Neil Harris Crystal attending our show and he has some beautiful designs\nhttps://www.nharrisandson.com/\n\n\nOur Breed Appreciation Day and A3 assessment will also be taking place at the same time so this is a unique opportunity for our learning judges to see lots of Curlies in action and have a cheeky cuddle that you won’t get in the ring. Book via our BEC.
URL:https://oswestryshow.co.uk/event/curly-coated-retriever-breed-show/
LOCATION:Oswestry Showground\, Whittington\, Oswestry\, Shropshire\, SY11 4AB\, United Kingdom
END:VEVENT
BEGIN:VEVENT
DTSTART;TZID=UTC:20250802T090000
DTEND;TZID=UTC:20250802T170000
DTSTAMP:20260419T164747
CREATED:20250613T135208Z
LAST-MODIFIED:20250613T135208Z
UID:56877-1754125200-1754154000@oswestryshow.co.uk
SUMMARY:Oswestry Show 2025
DESCRIPTION:Now in its 138th year\, the Oswestry Show is one of the UK’s leading one-day agricultural shows\, welcoming over 15\,000 visitors annually to enjoy a vibrant showcase of farming\, rural traditions\, live entertainment\, and local talent – all set in the heart of Shropshire. Whether you’re passionate about agriculture or simply looking for a fun-filled family day out\, the 2025 Oswestry Show promises something for everyone. \nThe Oswestry Show is more than just a show – it’s a day where town meets country\, where generations gather and where agriculture is celebrated in all its diversity. Whether you’re a returning visitor or planning your first visit\, we look forward to welcoming you on Saturday 2nd August 2025.
URL:https://oswestryshow.co.uk/event/oswestry-show-2025/
LOCATION:Oswestry Showground\, Whittington\, Oswestry\, Shropshire\, SY11 4AB\, United Kingdom
END:VEVENT
END:VCALENDAR